Workbook

Sheet Introduction
A1: Partner Hosted Alternative Foundational Technical Review Partner Hosted - Alternative for FTR Validaiton Checklist Validity Period: February 2026-August 2026 This version of the checklist was released on August 29th, 2025. The next version of this checklist is expected to be released in February 2026. AWS Partners may continue to use this version of the checklist until November 2025. This workbook is intended to be used by AWS Partners applying for Partner Hosted Foundational Technical Review in order to complete the FTR alternative process. The FTR alternative process can be used in two cases: 1. If you have conducted an System and Organization Control 2 (SOC 2) Type II led by an auditor. The report must meet te following criteria: 1.Report Status: Active 2. Auditor Opinion: Unqualified 3. Cloud Provider: AWS 4. Scope: Solution undergoing FTR validation must be included within the audit scope 5. Security and Availability trust centers are part of the audit. 2. If you have completed an AWS Well-Architected Framework Review (WAFR), you can use it in lieu of a FTR under the following conditions: 1. The WAFR must be conducted by either an AWS employee OR a confirmed AWS Well-Architected Program Partner (WAPP) that can be found in the Partner Solution Finder 2. The review must be completed within the last 12 months 3. The assessment must show no active high-risk issues (HRIs) in: Security pillar, Operational Excellence pillar, Reliability pillar Please create a copy of this spreadsheet for your application and complete the requested information on the second tab. For each technical requirement, please indicate if you meet the requirement and provide details in the "Partner Response" column where requested. Once you have completed your self-assessment, attach a completed copy of this spreadsheet along with other required documents (i.e., CIS Benchmark Report, Architecture Diagram, WAFR report or SOC2 report) when you request the FTR.
A2: For example, the following artifacts are required for FTR alternative process submission. For SOC2 Submission: * Alternative FTR self-assessment checklist * Architecture diagram * CIS Benchmark Report * SOC2 Audit Report For WAFR Submission: * Alternative FTR self-assessment checklist * Architecture diagram * CIS Benchmark Report * WAFR Report
A3: FTR Resources
A4: FTR User Guide
A5: FTR101 – Intro to FTR Video
A6: FTR201- Partner-Hosted SaaS on AWS Video
A7: FTR Calibration Guide
A9: Dear AWS Partners, We've streamlined the Foundational Technical Review (FTR) process to make it even more partner-friendly. If you conducted the FTR or Technical Baseline Review (TBR) process two years ago, we kindly request that you revisit this review to ensure alignment with the latest requirements. The new FTR self-assessment checklist has been simplified, featuring straightforward yes/no questions that allow you to easily grasp AWS expectations. We encourage you to complete this self-assessment checklist with the available information about your AWS architecture and submit it through AWS Partner Central. Our dedicated PSA (Partner Solutions Architect) team is ready to review your response and offer guidance where needed to help you secure FTR approval. Thank you for your ongoing partnership, and we look forward to continuing our journey together.

Sheet Partner Hosted FTR Requirements
A1: Partner Hosted FTR Alternative Assessment - for Well-Architected and SOC2 reports The following requirements apply to any components hosted and operated by the AWS Partner in their own AWS account. The cells highlighted in grey are not editable, the field is auto generated.
A2: FTR Percent Complete | B2: =B4/(E4+B4) -> 0
A3: Provisional FTR Outcome | C3: Pass / Fail / Further Review
A4: Controls Met | B4: =COUNTIF(D16:D50, "Pass") -> 0 | C4: Controls Not Met | E4: =COUNTIF(D16:D50, "Fail") -> 11
A5: ID | B5: Requirement Description | C5: Met? (Yes/No/NA) | D5: Approval Requirements | E5: Partner Response / Guidance | F5: AWS Partner SA Comments
A6: FTR alternative process can be used in two cases: 1. If you have conducted an System and Organization Control 2 (SOC 2) Type II led by an auditor. 2. If you have conducted an AWS Well-Architected Framework Review (WAFR) led by an AWS Employee or Well-Architected Partner Program (WAPP) partner. If the two use cases do not apply to you, do not use this FTR self-assessment checklist.
A7: ALT-001 | B7: AWS Well-Architected Framework Review (WAFR) All AWS Well-Architected Framework Review (WAFR) led by an AWS employee or a confirmed AWS Well-Architected Program Partner (WAPP) (listed in the Partner Solution Finder (PSF) https://partners.amazonaws.com/). Your WAFR must be less than 12 months old and have no High-Risk Issues (HRIs) in Security, Operations, and Reliability pillars. | C7: {=_xlfn.IFS(D7="Pass", "Yes", D7="Fail", "No", D7="", "")} | D7: {=_xlfn.IFS(C8="Yes", "Pass",C8="No", "Fail", C8="<select>", "")}
A8: ALT-001.1 | B8: Have you completed an AWS Well-Architected Framework Review (WAFR) conducted by either an AWS employee or a confirmed Well-Architected Partner Program (WAPP) partner? • Review must be completed within the last 12 months • Assessment report must show no active high-risk issues (HRIs) across: Security pillar, Operational Excellence pillar, and Reliability pillar | C8: <select> | E8: =IF(C8="No",'Supporting Information Required'!C15,IF(C8="Yes",'Supporting Information Required'!D15,IF(C8="NA",'Supporting Information Required'!E23,"")))
A9: ALT-002 | B9: System and Organization Control 2 (SOC 2) Type II All SOC 2 Type II audit examinations must be completed by an independent auditor. The SOC 2 report must: maintain an active status, demonstrate an unqualified auditor opinion, utilize AWS and must have security and availability trust centers as part of the audit. Additionally, any solution undergoing FTR validation must be explicitly included within the scope of the audit. | C9: {=_xlfn.IFS(D9="Pass", "Yes", D9="Fail", "No", D9="", "")} | D9: {=_xlfn.IFS( C10="Yes", "Pass",C10="No", "Fail", OR(C10="<select>",C11="<select>"), "")}
A10: ALT-002.1 | B10: Does the SOC2 results summary meet the below criteria? 1. Report Status: Active 2. Auditor Opinion: Unqualified 3. Cloud Provider: AWS 4. Scope: Solution undergoing FTR validation must be included within the audit scope 5. Security and Availability trust centers are part of the audit. | C10: <select> | E10: =IF(C10="No",'Supporting Information Required'!C13,IF(C10="Yes",'Supporting Information Required'!D13,IF(C10="NA",'Supporting Information Required'!E13,"")))
A11: ALT-002.2 | B11: With the SOC2 report, a CIS benchmark report is required for FTR validation. Have you completed a CIS benchmark report and do you plan to attach it in the FTR request form in Partner Central? | C11: <select> | E11: =IF(C11="No",'Supporting Information Required'!C2,IF(C11="Yes",'Supporting Information Required'!D2,IF(C11="NA",'Supporting Information Required'!E2,"")))
A12: ALT-002.2 | B12: Could you please provide the solution title that is being validated for FTR and in scope for the SOC2 audit? Please specify in cell E12 | C12: N/A
A14: Partner Hosted
A16: HOST-001 | B16: Confirm your hosting model. To qualify for FTR your product must run entirely on AWS. This includes the application and control planes. The application plane can run in the seller's AWS account, the buyer's AWS account, or both. For more information, refer to the Control plane vs. application plane (https://docs.aws.amazon.com/whitepapers/latest/saas-architecture-fundamentals/control-plane-vs.-application-plane.html) whitepaper. Third-party services used by the product to transmit, store, or process application data must also run entirely on AWS —except for content delivery networks (CDNs), domain name systems (DNSs), and corporate identity providers (IdPs). Agents or gateways used by the product for security, monitoring, data replication, or migration can run on buyer-owned environments outside AWS, including on premises, but must send data only to AWS for storage and analysis. You must include an architecture diagram for review. For more information, refer to Architecture diagram (https://docs.aws.amazon.com/marketplace/latest/userguide/saas-guidelines.html#arch-diagram). Listing on Marketplace is not required to complete a FTR. | C16: =IF(OR(C17="<select>",C18="<select>", C19="<select>"), "", IF(D16="Fail", "No", IF(D16="Pass", "Yes"))) | D16: =IF(OR( AND(C17="Yes", C18="Yes", C19="Yes")), "Pass","Fail") -> Fail
A17: HOST-001.1 | B17: Is your entire application infrastructure hosted on AWS? | C17: <select> | D17: =IF(C17="No",'Supporting Information Required'!C6,IF(C17="Yes",'Supporting Information Required'!D6, "")) | E17: =IF(C17="No",'Supporting Information Required'!C6,IF(C17="Yes",'Supporting Information Required'!D6,IF(C17="NA","Ok","")))
A18: HOST-001.2 | B18: Are all of the third-party services used by your application also hosted on AWS? If you are unsure, please verify with your third-party service provider where they are hosted. | C18: <select> | E18: =IF(C18="No",'Supporting Information Required'!C7,IF(C18="Yes",'Supporting Information Required'!D7,IF(C18="Not-Applicable",'Supporting Information Required'!E7,"")))
A19: HOST-001.3 | B19: Please confirm that you will submit an architecture diagram as part of your FTR submission. | C19: <select> | D19: =IF(C19="No",'Supporting Information Required'!C11,IF(C19="Yes",'Supporting Information Required'!D11, "")) | E19: =IF(C19="No",'Supporting Information Required'!C8,IF(C19="Yes",'Supporting Information Required'!D8,IF(C19="Not-Applicable",'Supporting Information Required'!E8,"")))
A21: Support Level
A23: SUP-001 | B23: Subscribe to the AWS Business Support tier (or higher) for all production AWS accounts or have an action plan to handle issues which require help from AWS Support. It is recommended that you subscribe to the AWS Business Support tier or higher for all of your AWS production accounts. For more information, refer to Compare AWS Support Plans. If you don't have premium support, you must have an action plan to handle issues which require help from AWS Support. AWS Support provides a mix of tools and technology, people, and programs designed to proactively help you optimize performance, lower costs, and innovate faster. AWS Business Support (https://aws.amazon.com/premiumsupport/plans/business/) provides additional benefits including access to AWS Trusted Advisor (https://aws.amazon.com/premiumsupport/technology/trusted-advisor/) and AWS Personal Health Dashboard (https://aws.amazon.com/premiumsupport/technology/personal-health-dashboard) and faster response times. | C23: =IF(C24="<select>", "", IF(D23="Pass", "Yes", IF( D23="Fail", "No"))) | D23: =IF(OR(C24="Yes",AND(E23<>"",C24="NO")), "Pass","Fail") -> Fail
A24: SUP-001.1 | B24: Is your support tier Business or higher on all productions AWS accounts? | C24: <select> | D24: =IF(C24="No",'Supporting Information Required'!C11,IF(C24="Yes",'Supporting Information Required'!D11,IF(C24="NA",'Supporting Information Required'!E11,""))) | E24: =IF(C24="No",'Supporting Information Required'!C11,IF(C24="Yes",'Supporting Information Required'!D11,IF(C24="NA",'Supporting Information Required'!E11,"")))
A26: Architecture Review
A28: WAFR-001 | B28: Conduct periodic architecture reviews (minimum once every year). Conduct periodic architecture reviews of your production workload (at least once per year) using a documented architectural standard that includes AWS-specific best practices. If you have an internally defined standard for your AWS workloads, we recommend you use it for these reviews. If you do not have an internal standard, we recommend you use the AWS Well-Architected Framework (https://aws.amazon.com/architecture/well-architected/). | C28: =IF(C29="<select>", "", IF(D28="Pass", "Yes", IF( D28="Fail", "No"))) | D28: =IF(AND(C29="Yes",C30="Yes"), "Pass","Fail") -> Fail
A29: WAFR-001.1 | B29: Do you do periodic architecture reviews? | C29: <select> | D29: =IF(C29="No",'Supporting Information Required'!C17,IF(C29="Yes",'Supporting Information Required'!D17,IF(C29="NA",'Supporting Information Required'!E17,""))) | E29: =IF(C29="No",'Supporting Information Required'!C17,IF(C29="Yes",'Supporting Information Required'!D17,IF(C29="NA",'Supporting Information Required'!E17,"")))
A30: WAFR-001.2 | B30: Have you done an architecture review in the last year? | C30: <select> | E30: =IF(C30="No",'Supporting Information Required'!C18,IF(C30="Yes",'Supporting Information Required'!D18,IF(C30="NA",'Supporting Information Required'!E18,"")))
A31: WAFR-002 | B31: Review the AWS Shared Responsibility Model for Security (https://docs.aws.amazon.com/whitepapers/latest/aws-risk-and-compliance/shared-responsibility-model.html) and the AWS Shared Responsibility Model for Resiliency (https://docs.aws.amazon.com/whitepapers/latest/disaster-recovery-workloads-on-aws/shared-responsibility-model-for-resiliency.html). Ensure that your product’s architecture and operational processes address the customer responsibilities defined in these models. We recommend you to use AWS Resilience Hub (https://aws.amazon.com/resilience-hub/) to ensure your workload resiliency posture meets your targets and to provide you with operational procedures you may use to address the customer responsibilities. | C31: =IF(C32="<select>", "",C32) | D31: =IF(C32="Yes","Pass","Fail") -> Fail
A32: WAFR-002.1 | B32: Have you reviewed the AWS Shared Responsibility Models for Security and Resiliency? | C32: <select> | D32: =IF(C32="No",'Supporting Information Required'!C20,IF(C32="Yes",'Supporting Information Required'!D20,IF(C32="NA",'Supporting Information Required'!E20,""))) | E32: =IF(C32="No",'Supporting Information Required'!C20,IF(C32="Yes",'Supporting Information Required'!D20,IF(C32="NA",'Supporting Information Required'!E20,"")))
A34: Cross-account access
A36: CAA-000 | B36: Do you access customer AWS accounts? | C36: <select> | D36: =IF(C36="No",'Supporting Information Required'!C118,IF(C36="Yes",'Supporting Information Required'!D118, "")) | E36: =IF(C36="No",'Supporting Information Required'!C118,IF(C36="Yes",'Supporting Information Required'!D118,IF(C36="NA","Ok",""))) | F36: =IF(D36="No",'Supporting Information Required'!D118,IF(D36="Yes",'Supporting Information Required'!E118,IF(D36="NA","Ok","")))
A37: CAA-001 | B37: Use cross-account roles to access customer accounts. Cross-account roles (https://aws.amazon.com/blogs/apn/securely-accessing-customer-aws-accounts-with-cross-account-iam-roles/) reduce the amount of sensitive information AWS Partners need to store for their customers. | C37: =IF(C38="<select>", "", IF(D37="Fail", "No", IF(D37="Pass", "Yes"))) | D37: =IF(OR(AND(C36="No", C38="N/A"), OR(C38="Yes"), C36="No"), "Pass","Fail") -> Fail
A38: CAA-001.1 | B38: Do you use cross-account roles to access customer AWS accounts? | C38: <select> | D38: =IF(C38="No",'Supporting Information Required'!C120,IF(C38="Yes",'Supporting Information Required'!D120, "")) | E38: =IF(C38="No",'Supporting Information Required'!C120,IF(C38="Yes",'Supporting Information Required'!D120,IF(C38="N/A","Ok",""))) | F38: =IF(D38="No",'Supporting Information Required'!D120,IF(D38="Yes",'Supporting Information Required'!E120,IF(D38="N/A","Ok","")))
A39: CAA-007 | B39: Provide guidance or an automated setup mechanism (for example, an AWS CloudFormation template) for creating cross-account roles with the minimum required privileges. The policy created for cross-account access in customer accounts must follow the principle of least privilege (https://docs.aws.amazon.com/IAM/latest/UserGuide/best-practices.html#grant-least-privilege). The AWS Partner must provide a role-policy document or an automated setup mechanism (for example, an AWS CloudFormation template) for the customers to use to ensure that the roles are created with minimum required privileges. For more information, refer to the AWS Partner Network (APN) blog posts (https://aws.amazon.com/blogs/apn/tag/cross-account-roles/). | C39: =IF(C40="<select>", "", IF(D39="Fail", "No", IF(D39="Pass", "Yes"))) | D39: =IF(OR(AND(C36="No", C40="N/A"), AND(C40="Yes", E39<>""), C36="No"), "Pass","Fail") -> Fail
A40: CAA-007.1 | B40: Do you provide guidance for customers on how to set up their AWS account(s) for external access by your AWS account? | C40: <select> | D40: =IF(C40="No",'Supporting Information Required'!C122,IF(C40="Yes",'Supporting Information Required'!D122, "")) | E40: =IF(C40="No",'Supporting Information Required'!C122,IF(C40="Yes",'Supporting Information Required'!D122,IF(C40="N/A","Ok",""))) | F40: =IF(D40="No",'Supporting Information Required'!D122,IF(D40="Yes",'Supporting Information Required'!E122,IF(D40="N/A","Ok","")))
A41: CAA-002 | B41: Use an external ID with cross-account roles to access customer accounts. An external ID allows the user that is assuming the role to assert the circumstances in which they are operating. It also provides a way for the account owner to permit the role to be assumed only under specific circumstances. The primary function of the external ID is to address and prevent the confused deputy (https://aws.amazon.com/blogs/security/how-to-use-external-id-when-granting-access-to-your-aws-resources) problem. | C41: =IF(C42="<select>", "", IF(D41="Fail", "No", IF(D41="Pass", "Yes"))) | D41: =IF(OR(AND(C36="No", C42="N/A"), OR(C42="Yes"), C36="No"), "Pass","Fail") -> Fail
A42: CAA-002.1 | B42: Is external ID being used to access another customer’s AWS account? | C42: <select> | D42: =IF(C42="No",'Supporting Information Required'!C124,IF(C42="Yes",'Supporting Information Required'!D124, "")) | E42: =IF(C42="No",'Supporting Information Required'!C124,IF(C42="Yes",'Supporting Information Required'!D124,IF(C42="N/A","Ok",""))) | F42: =IF(D42="No",'Supporting Information Required'!D124,IF(D42="Yes",'Supporting Information Required'!E124,IF(D42="N/A","Ok","")))
A43: CAA-004 | B43: Use a value you generate (not something provided by the customer) for the external ID. When configuring cross-account access using IAM roles, you must use a value you generate for the external ID, instead of one provided by the customer, to ensure the integrity of the cross-account role configuration. A partner-generated external ID ensures that malicious parties cannot impersonate a customer's configuration and enforces uniqueness and format consistency across all customers. If you are not generating an external ID today we recommend implementing a process that generates a random unique value such as a Universally Unique Identifier (https://en.wikipedia.org/wiki/Universally_unique_identifier) or the external ID that a customer uses to set up a cross-account role. | C43: =IF(C44="<select>", "", IF(D43="Fail", "No", IF(D43="Pass", "Yes"))) | D43: =IF(OR(AND(C36="No", C44="N/A"), OR(C44="Yes"), C36="No"), "Pass","Fail") -> Fail
A44: CAA-004.1 | B44: Do you generate the values for external IDs to provide to customers? | C44: <select> | D44: =IF(C44="No",'Supporting Information Required'!C126,IF(C44="Yes",'Supporting Information Required'!D126, "")) | E44: =IF(C44="No",'Supporting Information Required'!C126,IF(C44="Yes",'Supporting Information Required'!D126,IF(C44="N/A","Ok",""))) | F44: =IF(D44="No",'Supporting Information Required'!D126,IF(D44="Yes",'Supporting Information Required'!E126,IF(D44="N/A","Ok","")))
A45: CAA-005 | B45: Ensure that all external IDs are unique. The external IDs used must be unique across all customers. Re-using external IDs for different customers does not solve the confused deputy problem and runs the risk of customer A being able to view data of customer B by using the role ARN and the external ID of customer B. To resolve this, we recommend implementing a process that ensures a random unique value, such as a Universally Unique Identifier (https://en.wikipedia.org/wiki/Universally_unique_identifier), is generated for the external ID that a customer would use to setup a cross account role. | C45: =IF(C46="<select>", "", IF(D45="Fail", "No", IF(D45="Pass", "Yes"))) | D45: =IF(OR(AND(C36="No", C46="N/A"), OR(C46="Yes"), C36="No"), "Pass","Fail") -> Fail
A46: CAA-005.1 | B46: Does your solution architecture ensure that all external IDs for external AWS accounts are unique? | C46: <select> | D46: =IF(C46="No",'Supporting Information Required'!C128,IF(C46="Yes",'Supporting Information Required'!D128, "")) | E46: =IF(C46="No",'Supporting Information Required'!C128,IF(C46="Yes",'Supporting Information Required'!D128,IF(C46="N/A","Ok",""))) | F46: =IF(D46="No",'Supporting Information Required'!D128,IF(D46="Yes",'Supporting Information Required'!E128,IF(D46="N/A","Ok","")))
A47: CAA-006 | B47: Provide read-only access to external ID to customers. Customers must not be able to set or influence external IDs. When the external ID is editable, it is possible for one customer to impersonate the configuration of another. For example, when the external ID is editable, customer A can create a cross account role setup using customer B’s role ARN and external ID, granting customer A access to customer B’s data. Remediation of this item involves making the external ID a view-only field, ensuring that the external ID cannot be changed to impersonate the setup of another customer. | C47: =IF(C48="<select>", "", IF(D47="Fail", "No", IF(D47="Pass", "Yes"))) | D47: =IF(OR(AND(C36="No", C48="N/A"), OR(C48="Yes"), C36="No"), "Pass","Fail") -> Fail
A48: CAA-006.1 | B48: Does your solution architecture ensure provisioning read-only access to external IDs to customers? | C48: <select> | D48: =IF(C48="No",'Supporting Information Required'!C130,IF(C48="Yes",'Supporting Information Required'!D130, "")) | E48: =IF(C48="No",'Supporting Information Required'!C130,IF(C48="Yes",'Supporting Information Required'!D130,IF(C48="N/A","Ok",""))) | F48: =IF(D48="No",'Supporting Information Required'!D130,IF(D48="Yes",'Supporting Information Required'!E130,IF(D48="N/A","Ok","")))
A49: CAA-003 | B49: Deprecate any historical use of customer-provided IAM credentials. If your application provides legacy support for the use of static IAM credentials for cross-account access, the application's user interface and customer documentation must make it clear that this method is deprecated. Existing customers should be encouraged to switch to cross-account role based-access (https://aws.amazon.com/blogs/apn/securely-accessing-customer-aws-accounts-with-cross-account-iam-roles/), and collection of credentials should be disabled for new customers. | C49: =IF(C50="<select>", "", IF(D49="Fail", "No", IF(D49="Pass", "Yes"))) | D49: =IF(OR(AND(C36="No", C50="N/A"), OR(C50="Yes"), C36="No"), "Pass","Fail") -> Fail
A50: CAA-003.1 | B50: Does your solution architecture ensure any historical use of customer-provided IAM credentials are deprecated? | C50: <select> | D50: =IF(C50="No",'Supporting Information Required'!C132,IF(C50="Yes",'Supporting Information Required'!D132, "")) | E50: =IF(C50="No",'Supporting Information Required'!C132,IF(C50="Yes",'Supporting Information Required'!D132,IF(C50="N/A","Ok",""))) | F50: =IF(D50="No",'Supporting Information Required'!D132,IF(D50="Yes",'Supporting Information Required'!E132,IF(D50="N/A","Ok","")))

Sheet FTR Results Summary
A1: Partner-hosted FTR Results Summary
A2: ID | B2: Requirement Description | C2: Met? | D2: Partner Response | E2: Guidance
A3: ALT-001 | B3: AWS Well-Architected Framework Review (WAFR) | C3: ='Partner Hosted FTR Requirements'!C7 | D3: =IF('Partner Hosted FTR Requirements'!E7="", "", 'Partner Hosted FTR Requirements'!E7) | E3: ='Partner Hosted FTR Requirements'!E8
A4: ALT-002 | B4: System and Organization Control 2 (SOC 2) Type II | C4: ='Partner Hosted FTR Requirements'!C9 | D4: =IF('Partner Hosted FTR Requirements'!E9="", "", 'Partner Hosted FTR Requirements'!E9) | E4: ='Partner Hosted FTR Requirements'!E10
A5: HOST-001 | B5: Confirm your hosting model. | C5: ='Partner Hosted FTR Requirements'!C16 | D5: =IF('Partner Hosted FTR Requirements'!E16="", "", 'Partner Hosted FTR Requirements'!E16) | E5: ='Partner Hosted FTR Requirements'!E17
A6: SUP-001 | B6: Subscribe to the AWS Business Support tier (or higher) for all production AWS accounts or have an action plan to handle issues which require help from AWS Support. | C6: ='Partner Hosted FTR Requirements'!C23 | D6: =IF('Partner Hosted FTR Requirements'!E23="", "", 'Partner Hosted FTR Requirements'!E23) | E6: ='Partner Hosted FTR Requirements'!E24
A7: WAFR-001 | B7: Conduct periodic architecture reviews (minimum once every year). | C7: ='Partner Hosted FTR Requirements'!C28 | D7: =IF('Partner Hosted FTR Requirements'!E28="", "", 'Partner Hosted FTR Requirements'!E28) | E7: ='Partner Hosted FTR Requirements'!E29& CHAR(10) &'Partner Hosted FTR Requirements'!E30
A8: WAFR-002 | B8: Review the AWS Shared Responsibility Models for Security and Resiliency. | C8: ='Partner Hosted FTR Requirements'!C31 | D8: =IF('Partner Hosted FTR Requirements'!E31="", "", 'Partner Hosted FTR Requirements'!E31) | E8: ='Partner Hosted FTR Requirements'!E32
A9: CAA-001 | B9: Use cross-account roles to access customer AWS accounts. | C9: {=IF(ISNA(_xlfn.IFS('Partner Hosted FTR Requirements'!C37 = "Yes", "Yes", 'Partner Hosted FTR Requirements'!D37="PASS", "Yes", 'Partner Hosted FTR Requirements'!C37="No", "No")), "", _xlfn.IFS('Partner Hosted FTR Requirements'!C37 = "Yes", "Yes", 'Partner Hosted FTR Requirements'!D37="PASS", "Yes", 'Partner Hosted FTR Requirements'!C37="No", "No"))} | D9: =IF('Partner Hosted FTR Requirements'!E37="", "", 'Partner Hosted FTR Requirements'!E37) | E9: ='Partner Hosted FTR Requirements'!E38
A10: CAA-007 | B10: Provide guidance or an automated setup mechanism (for example, an AWS CloudFormation template) for creating cross-account roles with the minimum required privileges. | C10: {=IF(ISNA(_xlfn.IFS('Partner Hosted FTR Requirements'!C39 = "Yes", "Yes", 'Partner Hosted FTR Requirements'!D39="PASS", "Yes", 'Partner Hosted FTR Requirements'!C39="No", "No")), "", _xlfn.IFS('Partner Hosted FTR Requirements'!C39 = "Yes", "Yes", 'Partner Hosted FTR Requirements'!D39="PASS", "Yes", 'Partner Hosted FTR Requirements'!C39="No", "No"))} | D10: =IF('Partner Hosted FTR Requirements'!E39="", "", 'Partner Hosted FTR Requirements'!E39) | E10: ='Partner Hosted FTR Requirements'!E40
A11: CAA-002 | B11: Use an external ID with cross-account roles to access customer accounts. | C11: {=IF(ISNA(_xlfn.IFS('Partner Hosted FTR Requirements'!C41 = "Yes", "Yes", 'Partner Hosted FTR Requirements'!D41="PASS", "Yes", 'Partner Hosted FTR Requirements'!C41="No", "No")), "", _xlfn.IFS('Partner Hosted FTR Requirements'!C41 = "Yes", "Yes", 'Partner Hosted FTR Requirements'!D41="PASS", "Yes", 'Partner Hosted FTR Requirements'!C41="No", "No"))} | D11: =IF('Partner Hosted FTR Requirements'!E41="", "", 'Partner Hosted FTR Requirements'!E41) | E11: ='Partner Hosted FTR Requirements'!E42
A12: CAA-004 | B12: Use a value you generate (not something provided by the customer) for the external ID. | C12: {=IF(ISNA(_xlfn.IFS('Partner Hosted FTR Requirements'!C43 = "Yes", "Yes", 'Partner Hosted FTR Requirements'!D43="PASS", "Yes", 'Partner Hosted FTR Requirements'!C43="No", "No")), "", _xlfn.IFS('Partner Hosted FTR Requirements'!C43 = "Yes", "Yes", 'Partner Hosted FTR Requirements'!D43="PASS", "Yes", 'Partner Hosted FTR Requirements'!C43="No", "No"))} | D12: =IF('Partner Hosted FTR Requirements'!E43="", "", 'Partner Hosted FTR Requirements'!E43) | E12: ='Partner Hosted FTR Requirements'!E44
A13: CAA-005 | B13: Ensure that all external IDs are unique. | C13: {=IF(ISNA(_xlfn.IFS('Partner Hosted FTR Requirements'!C45 = "Yes", "Yes", 'Partner Hosted FTR Requirements'!D45="PASS", "Yes", 'Partner Hosted FTR Requirements'!C45="No", "No")), "", _xlfn.IFS('Partner Hosted FTR Requirements'!C45 = "Yes", "Yes", 'Partner Hosted FTR Requirements'!D45="PASS", "Yes", 'Partner Hosted FTR Requirements'!C45="No", "No"))} | D13: =IF('Partner Hosted FTR Requirements'!E45="", "", 'Partner Hosted FTR Requirements'!E45) | E13: ='Partner Hosted FTR Requirements'!E46
A14: CAA-006 | B14: Provide read-only access to external ID to customers. | C14: {=IF(ISNA(_xlfn.IFS('Partner Hosted FTR Requirements'!C47 = "Yes", "Yes", 'Partner Hosted FTR Requirements'!D47="PASS", "Yes", 'Partner Hosted FTR Requirements'!C47="No", "No")), "", _xlfn.IFS('Partner Hosted FTR Requirements'!C47 = "Yes", "Yes", 'Partner Hosted FTR Requirements'!D47="PASS", "Yes", 'Partner Hosted FTR Requirements'!C47="No", "No"))} | D14: =IF('Partner Hosted FTR Requirements'!E47="", "", 'Partner Hosted FTR Requirements'!E47) | E14: ='Partner Hosted FTR Requirements'!E48
A15: CAA-003 | B15: Deprecate any historical use of customer-provided IAM credentials. | C15: {=IF(ISNA(_xlfn.IFS('Partner Hosted FTR Requirements'!C49 = "Yes", "Yes", 'Partner Hosted FTR Requirements'!D49="PASS", "Yes", 'Partner Hosted FTR Requirements'!C49="No", "No")), "", _xlfn.IFS('Partner Hosted FTR Requirements'!C49 = "Yes", "Yes", 'Partner Hosted FTR Requirements'!D49="PASS", "Yes", 'Partner Hosted FTR Requirements'!C49="No", "No"))} | D15: =IF('Partner Hosted FTR Requirements'!E49="", "", 'Partner Hosted FTR Requirements'!E49) | E15: ='Partner Hosted FTR Requirements'!E50

Sheet Explanation
A1: FTR Calibration Guide This calibration guide is intended for AWS partners who have applied or are interested in the Foundational Technical Review for Partner Hosted Solution. The calibration guide provides clarity on the requirements, criteria for meeting the requirements, and why the requirements are important. It helps partner improve application quality and reduce cycle time during the technical validation process. Additionally, partners can use the best practices in this technical guide to improve their Software Offering.
A2: ID | B2: Requirement Description | C2: Why is this important? | D2: Criteria for passing this control | E2: Examples of acceptable Criteria | F2: Examples of unacceptable practice | G2: Technical enablement resources
A3: HOST-001 | B3: Confirm your hosting model. | C3: This requirement is essential for the FTR validation process, which evaluates how effectively the SaaS solution implements AWS best practices for security, reliability, and operational excellence within the AWS environment. To qualify for AWS Partner Network (APN) programs, your application must be hosted on AWS infrastructure. | D3: AWS Marketplace requires Software-as-a-Service (SaaS) infrastructure partners to host their critical infrastructure components on AWS. The only permitted exceptions are Content Delivery Networks (CDN), Domain Name Systems (DNS), and Identity Providers (IdP). Hosting critical components on another public cloud or accessing third party services and using LLM's outside AWS will disqualify the solution for FTR. Partner must provide an architecture diagram which clearly details the components of the solution. You can refer to the architecture guidelines on the architecture diagram section of the AWS Marketplace seller guide(https://docs.aws.amazon.com/marketplace/latest/userguide/saas-guidelines.html#saas-architecture). When a partner's solution migrates workloads to AWS, the partner must attest in the FTR checklist that AWS is the sole migration target. For solutions that support replication to other environments, partners must remove AWS-specific replication features and publish them as a separate product to qualify for FTR. | E3: • Control plane and application plane are running on AWS • All critical components are running on AWS other than CDN, DNS, IdP | F3: • Application entirely runs on another public cloud and integrates with AWS • Core components running on another public cloud • Control plane running on another public cloud | G3: • SaaS product guidelines for AWS Marketplace https://docs.aws.amazon.com/marketplace/latest/userguide/saas-guidelines.html#saas-architecture)
A4: SUP-001 | B4: Subscribe to the AWS Business Support tier (or higher including AWS Partner-led Support) for all production AWS accounts or have an action plan to handle issues which require help from AWS Support | C4: Partners may encounter issues which will require AWS support to resolve. In addition, AWS Support provides a mix of tools and technology, people, and programs designed to proactively help Partners optimize performance, lower costs, and innovate faster. AWS Business Support (https://aws.amazon.com/premiumsupport/plans/business/) provides additional benefits including access to AWS Trusted Advisor (https://aws.amazon.com/premiumsupport/technology/trusted-advisor/) and AWS Personal Health Dashboard (https://aws.amazon.com/premiumsupport/technology/aws-health/) and faster response times. | D4: • Partner has AWS Business or Enterprise support OR Partner Led Support • Partners has an action plan to handle issues which require AWS support. This may include having a long SLA with customers which allows them to use developer support and a strategy to enable support when they have their first incident which require AWS support. | E4: • Partner either subscribes to AWS Premium support or have an action plan to handle issues which require AWS Support. | F4: • Partner does not subscribe to premium support and does not have an action plan to handle issues which require AWS Support. | G4: • Business Support (https://aws.amazon.com/premiumsupport/plans/business/) • Enabling AWS Business Support (https://repost.aws/knowledge-center/sign-up-support) • AWS Trusted Advisor (https://aws.amazon.com/premiumsupport/technology/trusted-advisor/) • AWS Personal Health Dashboard (https://aws.amazon.com/premiumsupport/technology/aws-health/)
A5: WAFR-001 | B5: Conduct periodic architecture reviews (minimum once every year). | C5: Over time application architectures evolve as new features are implemented. It is important to periodically validate that all architecture best practices are followed and the architecture is fit for purpose. | D5: Partner has conducted at least one architecture review within the year prior to FTR review and has a process in place for periodic architecture review. | E5: • Partner conducts periodic architecture review using an internally defined review process or WAFR. | F5: • Partner does not have a process to do periodic architecture review. | G5: • AWS Well Architected (https://aws.amazon.com/architecture/well-architected/)
A6: WAFR-002 | B6: Review the AWS Shared Responsibility Models for Security and Resiliency. | C6: AWS is responsible for resiliency of the infrastructure that runs all of the services offered in the AWS Cloud. This infrastructure comprises of the hardware, software, networking, and facilities that run AWS Cloud services. Partner is responsible for selecting appropriate services and configuration to meet their resiliency requirements. It is important for Partners to understand what they are responsible for and address them. | D6: Partner must have reviewed AWS Shared Responsibility Model for Security and the AWS Shared Responsibility Model for Resiliency before the FTR review and attest to it. | E6: • Partner can confirm that they have reviewed and understood the shared responsibility model. | F6: • No confirmation | G6: • AWS Shared Responsibility Model for Security (https://docs.aws.amazon.com/whitepapers/latest/aws-risk-and-compliance/shared-responsibility-model.html) • AWS Shared Responsibility Model for Resiliency (https://docs.aws.amazon.com/whitepapers/latest/disaster-recovery-workloads-on-aws/shared-responsibility-model-for-resiliency.html)
A7: ARC-001 | B7: Use root user only by exception. | C7: The root user has unlimited access to your account and its resources. Since the root user is a single user, it is not possible to audit usage if the same is shared to multiple people. Also, since root user has access to billing information as well hence it is critical to limit its usage to minimum. We recommend you centrally secure the root user credentials of AWS accounts managed using AWS Organizations to prevent root user credential recovery and access at scale. | D7: Partner uses the root users for tasks that require root user. The CIS 1.1 in AWS Security Hub require Partners to monitor root usage as well. However, monitoring is not required for FTR. Partners can add a note to the self-assessment sheet if they failed this control in Security Hub because they don’t have monitoring. Monitoring root user activity is not required to pass this control. If you are using AWS Organizations you can follow this link to centralize the root access for your member accounts.(https://docs.aws.amazon.com/IAM/latest/UserGuide/id_root-enable-root-access.html) | E7: • We use AWS Organzations to centrally manage root user credentials for member accounts. By centrally managing we delete the root user crdentials from member accounts in our organization | F7: • Root user is used for routine tasks. Root user is only used by one person for routine tasks. | G7: • Root user tasks (https://docs.aws.amazon.com/accounts/latest/reference/root-user-tasks.html) • AWS Tasks That Require Root User (https://docs.aws.amazon.com/general/latest/gr/aws_tasks-that-require-root.html) • Security best practices in IAM (https://docs.aws.amazon.com/IAM/latest/UserGuide/best-practices.html#create-iam-users)
A8: ARC-003 | B8: Enable multi-factor authentication (MFA) on the root user for all AWS accounts (CIS 1.5/Security Control IAM.9). | C8: The root user has unlimited access to AWS accounts and their resources. Bad actors can get complete access to all resources in an AWS account if the root user is compromised. MFA sets a layer of security above password to protect AWS accounts since root user has unlimited access. Centrally manage your AWS root user credentials when implementing AWS Organizations, as this enables you to control and delete these credentials if needed | D8: Partner must have MFA enabled on the root user for all AWS accounts where they have access to the root user’s password. The accounts which are created using AWS Organizations with no password recovery, do not require MFA. | E8: • Either hardware or software MFA is enabled for root user. | F8: • MFA is not enabled but root users have passwords set. | G8: • Best practices to protect your account's root user (https://docs.aws.amazon.com/accounts/latest/reference/best-practices-root-user.html)
A9: ARC-004 | B9: Remove access keys for the root user (CIS 1.4/Security Control IAM.4). | C9: The root user has unlimited access to AWS accounts and their resources. A lost/compromised access key for a root user can be used by bad actors to get unlimited access to AWS account. | D9: Partner must not have any access keys set on the root users and should never be using the root user for programmatic access to AWS API’s. | E9: • Root users do not have access keys. | F9: • Partner uses root user access keys to access only CloudWatch service. | G9: • Best practices to protect your account's root user (https://docs.aws.amazon.com/accounts/latest/reference/best-practices-root-user.html)
A10: ARC-005 | B10: Please create a documented procedure for responding to, mitigating, and recovering from security incidents before to submitting the FTR. | C10: An incident management plan is critical to respond, mitigate, and recover from the potential impact of security incidents. An incident management plan is a structured process for identifying, remediating, and responding in a timely matter to security incidents. Developing thorough and clearly defined incident response processes is key to a successful and scalable incident response program. When a security event occurs, clear steps and workflows will help you to respond in a timely manner. You might already have existing incident response processes. Regardless of your current state, it’s important to update, iterate, and test your incident response processes regularly. | D10: Partner must have an incident response plan to recover from root user credential misuse. It should include the steps to reset the root user password. The incident response plan must cover all the areas as mentioned in the example runbook. | E10: • Partner has a documented incident response plan. | F10: • Partner does not have an incident response plan. | G10: • Incident management plans. (https://docs.aws.amazon.com/wellarchitected/latest/security-pillar/sec_incident_response_develop_management_plans.html)
A11: CAA-001 | B11: Use cross-account roles to access customer AWS accounts. | C11: Using static credentials to access customers’ AWS accounts is risky because if the Partners solution is compromised, these access keys can be stolen. | D11: Partner is accessing customers’ AWS accounts securely using cross-account roles. | E11: Partner uses IAM role to access customers’ AWS accounts. | F11: Partner users static credentials to access customers’ AWS accounts. | G11: • Delegate access across AWS accounts using IAM roles (https://docs.aws.amazon.com/IAM/latest/UserGuide/tutorial_cross-account-with-roles.html) • Securely Accessing Customer AWS Accounts with Cross-Account IAM Roles (https://aws.amazon.com/blogs/apn/securely-accessing-customer-aws-accounts-with-cross-account-iam-roles/)
A12: CAA-007 | B12: Provide guidance or an automated setup mechanism (for example, an AWS CloudFormation template) for creating cross-account roles with the minimum required privileges. | C12: Partners must provide clear instruction on how to create the IAM role to access customers’ AWS account including the required permissions and external ID. | D12: Partners must provide guidance or automated setup mechanisms for creating cross-account roles with minimum required privileges. | E12: Partner provides clear instructions. | F12: Partner relies on the customers to create IAM roles with appropriate configuration. | G12: AWS Partner Network (APN) blog posts (https://aws.amazon.com/blogs/apn/tag/cross-account-roles/)
A13: CAA-002 | B13: Use an external ID with cross-account roles to access customer accounts. | C13: External ID prevents confused deputy problem. | D13: Partner uses external ID with cross-account access roles to access customers’ AWS accounts. | E13: Partner uses external ID along with cross-account access IAM role. | F13: Partner does not user external ID with cross-account access IAM role. | G13: • Confused deputy (https://aws.amazon.com/blogs/security/how-to-use-external-id-when-granting-access-to-your-aws-resources) • Securely Using External ID for Accessing AWS Accounts Owned by Others (https://aws.amazon.com/blogs/apn/securely-using-external-id-for-accessing-aws-accounts-owned-by-others/)
... A17: CAA-003 | B17: Deprecate any historical use of customer-provided IAM credentials. | C17: Using static credentials (access keys) to access customers’ AWS accounts is risky due to potential compromises. | D17: Partner should not allow new customers to use static credential-based access. | E17: Partner deprecated any legacy static credential-based access | F17: Partner still allows static credential-based access | G17: N/A

Sheet Supporting Information Required
A1: Controls ID | B1: Role | C1: Remediations steps if no | D1: Follow-ups if yes | E1: Follow-ups if NA
A2: CIS Benchmark Report | C2: While the CIS benchmark report is optional, not submitting it will prolong the processing time for your FTR request and necessitate a call with an AWS PSA for approval. | D2: Thank you for submitting a CIS Benchmark report along with your FTR request.
A3: CIS Benchmark Report | C3: The following FTR Contols map to the CIS benmark report v1.4: VCL Control : CIS Benchmark Control 1) ARC-003 : IAM.9 2) ARC-004 : IAM.4 3) IAM-001 : IAM.5 4) IAM-002 : IAM.3 5) IAM-003 : IAM.15 & IAM.16 6) IAM-006 : IAM.1 7) NETSEC-001( default security group of every VPC restricts all traffic) : EC2.2 | D3: The following FTR Contols map to the CIS benmark report v3.0: VCL Control : CIS Benchmark Control 1) ARC-003 : IAM.9 2) ARC-004 : IAM.4 3) IAM-001 : IAM.5 4) IAM-002 : IAM.3 5) IAM-003 : IAM.15 & IAM.16 6) NETSEC-001 : EC2.2 & EC2.53 & EC2.54 7) ACOM-001(we recommend to update operations & billing contacts too) : Account.1
A4: Partner Hosted
A5: HOST-001
A6: HOST-001.1 | C6: Please list all components and edge services that are hosted outside of AWS (in the 'Partner Response' cell in white above.). | D6: Okay. This response confirms that our SaaS product is completely hosted on AWS infrastructure, with both application and control plane components running all within AWS. Using CDN, DNS, and Corporate Identity services from other providers is acceptable.
A7: HOST-001.2 | C7: Okay. Please list any 3rd party services used by the product to transmit, store, or process customer data. | D7: Okay. This response indicates that your SaaS product operates exclusively on AWS infrastructure without relying on external third-party services or LLMs. Using CDN, DNS, and Corporate Identity services from other providers is acceptable.
A8: HOST-001.3 | C8: Please note that an architecture diagram is a mandatory component of your FTR submission - without it, your submission will be considered incomplete and cannot be approved. | D8: Okay. Please ensure you include your architecture diagram when submitting your FTR self-assessment. Both components are required for a complete FTR submission.
A9: Support Level
A10: SUP-001
A11: SUP-001.1 | C11: AWS recommends that production accounts use Business support or greater to receive help from AWS support. Otherwise, please specify your action plan to handle issues which require help from AWS support (in the 'Partner Response' cell in white above). | D11: Okay. You can optionally add notes or comments in the 'Partner Response' cell in white above. | E11: Please explain why this control does not apply to the solution (in the partner response cell F12).
A12: SOC2
C13: To complete this FTR checklist, you need to provide either: - WAFR security report OR - SOC2 security report | D13: Please complete this FTR self-assessment spreadsheet affirming your compliance with the below requirements. To receive an FTR WAFR waiver, please upload the following artifacts: 1. SOC2 Type II Report (pdf format) 2. CIS Benchmark report 3. Architecture diagram 4. This self-assessment checklist completed If you pass all of the criteria, your FTR renewal date will be set to 36 months from the date of the WAFR.
A14: Architecture Review
A15: WAFR-000 | C15: To complete this FTR checklist, you need to provide either: - WAFR security report OR - SOC2 security report | D15: Please complete this FTR self-assessment spreadsheet affirming your compliance with the below requirements. To receive an FTR WAFR waiver, please: 1. (Optional) Provide the name and contact information of the PSA or WAPP partner who has completed the WAFR for you (In E7 Cell). Put 'NA' if the information is not available. 2. Upload the following artifacts: - WAFR report (pdf format) - Architecture diagram - This self-assessment checklist completed If you pass all of the criteria, your FTR renewal date will be set to 36 months from the date of the WAFR.
A16: WAFR-001
A17: WAFR-001.1 | C17: Please conduct an architecture review before submitting the FTR. | D17: Okay. You can optionally add notes or comments in the 'Partner Response' cell in white above. | E17: Please explain why this control does not apply to the solution (in the partner response cell F15).
A18: WAFR-001.2 | C18: Please conduct an architecture review before submitting the FTR. | D18: Okay. You can optionally add notes or comments in the 'Partner Response' cell in white above.
A19: WAFR-002 | D19: Okay. You can optionally add notes or comments in the 'Partner Response' cell in white above.
A20: WAFR-002.1 | C20: Please review the AWS Shared Responsibility Model before submitting the FTR. | D20: Okay. You can optionally add notes or comments in the 'Partner Response' cell in white above.
A21: These requirements apply only if you have a password set for your root users. If you are using AWS Organizations to create AWS accounts and don’t request root user passwords, these requirements don’t apply.
A22: ARC-001
A23: ARC-001.1 | C23: Okay. You can optionally add notes or comments in the 'Partner Response' cell in white above. | D23: Please specify use cases when the root account is used (in the 'Partner Response' cell in white above). | E23: Please explain why this control doesn't apply to your solution in the partner response cell (F28).
A24: ARC-003
A25: ARC-003.1 | C25: Please enable MFA on all root user accounts before submitting the FTR. | D25: Please specify what method is used for MFA (e.g. USB-Token, Authy, Google Authenticator) in the partner response cell in white above. Optional- please submit a Security Hub report to verify configuration. | E25: Please explain why this control doesn't apply to your solution in the partner response cell (F30).
A26: ARC-004
A27: ARC-004.1 | C27: Optional- please submit a Security Hub report to verify configuration. | D27: Please delete all static access keys for all root user acounts before submitting the FTR. | E27: Please explain why this control doesn't apply to your solution in the partner response cell (F32).
A28: ARC-005
A29: ARC-005.1 | C29: Please create a documented procedure for responding to, mitigating, and recovering from security incidents before to submitting the FTR. | D29: Okay. You can optionally add notes or comments in the 'Partner Response' cell in white above. | E29: Please explain why this control doesn't apply to your solution in the partner response cell (F34).
A31: Communications from AWS
A33: ACOM-001
A34: ACOM-001.1 | C34: Please configure AWS account contacts using distribution list(s) instead of individual user emails. | D34: Okay. You can optionally add notes or comments in the 'Partner Response' cell in white above. | E34: Please explain why this control doesn't apply to your solution in the partner response cell (F39).
A35: ACOM-002
A36: ACOM-002.1 | C36: Please set account information, including all email addresses and phone numbers, to ones owned by the company before submitting the FTR. | D36: Okay. You can optionally add notes or comments in the 'Partner Response' cell in white above. | E36: Please explain why this control doesn't apply to your solution in the partner response cell (F41).
A39: Identity and Access Management
A41: IAM-001
A42: IAM-001.1 | C42: Please enable MFA for all human identities with AWS access before submitting the FTR. | D42: Okay. You can optionally add notes or comments in the 'Partner Response' cell in white above. | E42: Please explain why this control doesn't apply to your solution in the partner response cell (F59).
A43: IAM-002
A44: IAM-002.1 | C44: Please implement credentials rotation to at least every 90 days before submitting the FTR. | D44: Ok - you meet the requirements for this control. You are not required to complete IAM-002.2 - IAM-002.4. | E44: Please explain why this control doesn't apply to your solution in the partner response cell (F61).
A45: IAM-002.2 | C45: Please create an inventory of all static keys and where they are used and remove unused access keys. | D45: Okay. You can optionally add notes or comments in the 'Partner Response' cell in white above.
A46: IAM-002.3 | C46: Please implement monitoring of AWS CloudTrail logs to detect anomalous activity or other potential misuse (e.g. using AWS GuardDuty.) | D46: Okay. You can optionally add notes or comments in the 'Partner Response' cell in white above. | E46: This requirement is N/A since you rotate access keys regularly
A47: IAM-002.4 | C47: Please create a runbook or SOP for revoking credentials in the event you detect misuse. | D47: Okay. You can optionally add notes or comments in the 'Partner Response' cell in white above. | E47: This requirement is N/A since you rotate access keys regularly
A48: IAM-003
A49: IAM-003.1 | C49: Please enforce a strong password policy with all the listed requirements before submitting the FTR. | D49: Okay. You can optionally add notes or comments in the 'Partner Response' cell in white above. | E49: Please explain why this control doesn't apply to your solution in the partner response cell (F63).
A50: IAM-004
A51: IAM-004.1 | C51: Please delete all shared credentials before submitting the FTR. | D51: Okay. You can optionally add notes or comments in the 'Partner Response' cell in white above. | E51: Please explain why this control doesn't apply to your solution in the partner response cell (F65).
A52: IAM-005
A53: IAM-005.1 | C53: Ok, please select N/A to the next question | D53: If yes, please answer the next question. | E53: Please explain why this control doesn't apply to your solution in the partner response cell (F67).
A54: IAM-005.2 | C54: Please change your process and use IAM roles and its temporary security credentials to provide access to 3rd parties before submitting the FTR. | D54: Okay. You can optionally add notes or comments in the 'Partner Response' cell in white above. | E54: Please explain why this control doesn't apply to your solution in the partner response cell (F67).
A55: IAM-005.3
A56: IAM-006
A57: IAM-006.1 | C57: Please implement the least priviledge access while granting access to users before submitting the FTR. | D57: Okay. You can optionally add notes or comments in the 'Partner Response' cell in white above. | E57: Please explain why this control doesn't apply to your solution in the partner response cell (F70).
A58: IAM-007
A59: IAM-007.1 | C59: Please implement a policy to remove access when a user leaves the organization or changes roles before submitting the FTR. | D59: Okay. You can optionally add notes or comments in the 'Partner Response' cell in white above. | E59: Please explain why this control doesn't apply to your solution in the partner response cell (F62).
A60: IAM-008
A61: IAM-008.1 | C61: Please conduct an identity audit before submitting the FTR. | D61: Okay. You can optionally add notes or comments in the 'Partner Response' cell in white above. | E61: Please explain why this control doesn't apply to your solution in the partner response cell (F64).
A62: IAM-009
A63: IAM-009.1 | C63: Okay. You can optionally add notes or comments in the 'Partner Response' cell in white above. | D63: Please remove all credentials hard-coded in code before submitting the FTR. | E63: Please explain why this control doesn't apply to your solution in the partner response cell (F66).
A64: IAM-010
A65: IAM-010.1 | C65: Please move application credentials into a secret management service before submitting the FTR. | D65: Okay. You can optionally add notes or comments in the 'Partner Response' cell in white above. | E65: Please explain why this control doesn't apply to your solution in the partner response cell (F68).
A66: IAM-011
A67: IAM-011.1 | C67: Please encrypt all end user credentials at rest and hash passwords before submitting the FTR. | D67: Okay. You can optionally add notes or comments in the 'Partner Response' cell in white above. | E67: Please explain why this control doesn't apply to your solution in the partner response cell (F70).
A68: IAM-012
A69: IAM-012.1 | C69: For Machine Identities always use IAM roles to acquire temporary security credentials. Please IAM Roles anywhere or securely store static AWS access keys that are only used to assume an IAM role. | D69: Okay. You can optionally add notes or comments in the 'Partner Response' cell in white above. | E69: Select N/A only if you do not have any machine identities that access IAM Accounts.
A70: IAM-012.2 | C70: Please ensure that any static credentials to AWS account are not easily accessible in config files or code repositories. | D70: Okay. You can optionally add notes or comments in the 'Partner Response' cell in white above. | E70: Select N/A only if you do not have any machine identities that access IAM Accounts.
A71: IAM-012.3 | C71: Please implement the usage of centralized Identity/temporary credentials for human identities. If you must use static AWS access keys for human users, require MFA for all accounts and verify through CIS before submitting the FTR (CIS 1.5/Security Control IAM.9) | D71: Okay. You can optionally add notes or comments in the 'Partner Response' cell in white above. | E71: Select N/A only if you do not have any Human Identities that access IAM Accounts.
A73: Operational Security
A75: SECOPS-001
A76: SECOPS-001.1 | C76: Please define a mechanism for vulnerability management for your CI/CD pipeline and machine identities before submitting the FTR. | D76: Okay. You can optionally add notes or comments in the 'Partner Response' cell in white above. | E76: Please explain why this control doesn't apply to your solution in the partner response cell (F78).
A78: Network Security
A80: NETSEC-001
A81: NETSEC-001.1 | C81: Please set your default security group to restrict all traffic before submitting the FTR. | D81: Okay. You can optionally add notes or comments in the 'Partner Response' cell in white above. | E81: Please explain why this control doesn't apply to your solution in the partner response cell (F894).
A82: NETSEC-001.2 | C82: Security groups should not allow ingress from 0.0.0.0/0 to port 22 or 3389. Please update the security groups rules before submitting the FTR. | D82: Okay. You can optionally add notes or comments in the 'Partner Response' cell in white above. | E82: Please explain why this control doesn't apply to your solution in the partner response cell (F94).
A83: NETSEC-001.3 | C83: Network ACLs should not allow ingress from 0.0.0.0/0 to port 22 or 3389. Please update the network ACLs rules before submitting the FTR. | D83: Okay. You can optionally add notes or comments in the 'Partner Response' cell in white above. | E83: Please explain why this control doesn't apply to your solution in the partner response cell (F94).
A84: NETSEC-002
A85: NETSEC-002.1 | C85: Please list all resources hosted in a public subnet and explain why each resource receives network traffic (in the partner response cell E85). | D85: Okay. You can optionally add notes or comments in the 'Partner Response' cell in white above. | E85: Please explain why this control doesn't apply to your solution in the partner response cell (F87).
A87: Backups and Recovery
A89: BAR-001
A90: BAR-001.1 | C90: Please have an automated backup process defined and implemented before submitting the FTR. | D90: Okay. You can optionally add notes or comments in the 'Partner Response' cell in white above. | E90: Please explain why this control doesn't apply to your solution in the partner response cell (F92).
A91: BAR-002
A92: BAR-002.1 | C92: Please perform a data recovery exercise before submitting the FTR. | D92: Please specify when the last data recovery exercise was performed, and what was the recovery time (in the 'Partner Response' cell in white above). | E92: Please explain why this control doesn't apply to your solution in the partner response cell (F94).
A93: BAR-002.1 | C93: Please test data recovery after making significant changes to the solution before submitting the FTR. | D93: Okay. You can optionally add notes or comments in the 'Partner Response' cell in white above. | E93: Please explain why this control doesn't apply to your solution in the partner response cell (F94).
A95: Resiliency
A97: RES-001
A98: RES-001.1 | C98: Please define an RPO according to your organizational needs before submitting the FTR. | D98: Please specify the solution RPO time in the 'Partner Response' cell in white above. | E98: Please explain why this control doesn't apply to your solution in the partner response cell (F99).
A99: RES-002
A100: RES-002.1 | C100: Please define an RTO according to your organizational needs before submitting the FTR. | D100: Please specify the solution RTO time in the 'Partner Response' cell in white above. | E100: Please explain why this control doesn't apply to your solution in the partner response cell (F101).
A101: RES-004
A102: RES-004.1 | C102: Please perform a resiliency testing exercise before submitting the FTR. | D102: Please specify the date when the last resiliency testing exercise was conducted, and were the RTO and RPO met? (in the 'Partner Response' cell in white above). | E102: Please explain why this control doesn't apply to your solution in the partner response cell (F103).
A103: RES-005
A104: RES-005.1 | C104: Please implement a process to communicate to customers their responsibility for backup, recovery, and availability before submitting the FTR. | D104: Okay. You can optionally add notes or comments in the 'Partner Response' cell in white above. | E104: Please explain why this control doesn't apply to your solution in the partner response cell (F105).
A105: RES-006
A106: RES-006.1 | C106: Ok. Next question is not applicable, please enter N/A in cell C107 | D106: Please answer the next question. | E106: Please explain why this control doesn't apply to your solution in the partner response cell (F107).
A107: RES-006.2 | C107: Please architect your solution to meet your defined SLA before submitting the FTR. | D107: Okay. You can optionally add notes or comments in the 'Partner Response' cell in white above. | E107: OK
A108: RES-007
A109: RES-007.1 | C109: Please define a customer communication plan for outages before submitting the FTR. | D109: Okay. You can optionally add notes or comments in the 'Partner Response' cell in white above. | E109: Please explain why this control doesn't apply to your solution in the partner response cell (F109).
A111: Amazon S3 Bucket Access
A113: S3-001
A114: S3-001.1 | C114: Please implement a process to review access levels of S3 buckets before submitting the FTR. | D114: Okay. You can optionally add notes or comments in the 'Partner Response' cell in white above. | E114: Please explain why this control doesn't apply to your solution in the partner response cell (F114).
A116: Cross-Account Access
...
